BEGIN:VCALENDAR
VERSION:2.0
PRODID:-//Jewish Leadership Academy - ECPv6.15.5//NONSGML v1.0//EN
CALSCALE:GREGORIAN
METHOD:PUBLISH
X-ORIGINAL-URL:https://jlamiami.org
X-WR-CALDESC:Events for Jewish Leadership Academy
REFRESH-INTERVAL;VALUE=DURATION:PT1H
X-Robots-Tag:noindex
X-PUBLISHED-TTL:PT1H
BEGIN:VTIMEZONE
TZID:America/New_York
BEGIN:DAYLIGHT
TZOFFSETFROM:-0500
TZOFFSETTO:-0400
TZNAME:EDT
DTSTART:20270314T070000
END:DAYLIGHT
BEGIN:STANDARD
TZOFFSETFROM:-0400
TZOFFSETTO:-0500
TZNAME:EST
DTSTART:20271107T060000
END:STANDARD
END:VTIMEZONE
BEGIN:VEVENT
DTSTART;VALUE=DATE:20270525
DTEND;VALUE=DATE:20270526
DTSTAMP:20260425T105745
CREATED:20251209T224146Z
LAST-MODIFIED:20260416T205704Z
UID:10000872-1811203200-1811289599@jlamiami.org
SUMMARY:Lag Ba'Omer (In Session)
DESCRIPTION:
URL:https://jlamiami.org/event/lag-baomer-in-session/
CATEGORIES:School Calendar
END:VEVENT
BEGIN:VEVENT
DTSTART;VALUE=DATE:20270527
DTEND;VALUE=DATE:20270528
DTSTAMP:20260425T105745
CREATED:20251209T224147Z
LAST-MODIFIED:20260416T205704Z
UID:10000875-1811376000-1811462399@jlamiami.org
SUMMARY:8th Grade Advancement Ceremony
DESCRIPTION:
URL:https://jlamiami.org/event/8th-grade-advancement-ceremony-3/
CATEGORIES:School Calendar
END:VEVENT
BEGIN:VEVENT
DTSTART;VALUE=DATE:20270531
DTEND;VALUE=DATE:20270601
DTSTAMP:20260425T105745
CREATED:20251209T224147Z
LAST-MODIFIED:20260416T205704Z
UID:10000877-1811721600-1811807999@jlamiami.org
SUMMARY:Memorial Day - No School
DESCRIPTION:
URL:https://jlamiami.org/event/memorial-day-no-school-3/
CATEGORIES:School Calendar
END:VEVENT
BEGIN:VEVENT
DTSTART;VALUE=DATE:20270603
DTEND;VALUE=DATE:20270604
DTSTAMP:20260425T105745
CREATED:20251209T224147Z
LAST-MODIFIED:20260416T205704Z
UID:10000880-1811980800-1812067199@jlamiami.org
SUMMARY:Graduation Ceremony
DESCRIPTION:
URL:https://jlamiami.org/event/graduation-ceremony-2/
CATEGORIES:School Calendar
END:VEVENT
BEGIN:VEVENT
DTSTART;VALUE=DATE:20270604
DTEND;VALUE=DATE:20270605
DTSTAMP:20260425T105745
CREATED:20251209T224147Z
LAST-MODIFIED:20260416T205704Z
UID:10000878-1812067200-1812153599@jlamiami.org
SUMMARY:Yom Yerushalayim (In Session)
DESCRIPTION:
URL:https://jlamiami.org/event/yom-yerushalayim-in-session/
CATEGORIES:School Calendar
END:VEVENT
BEGIN:VEVENT
DTSTART;VALUE=DATE:20270607
DTEND;VALUE=DATE:20270611
DTSTAMP:20260425T105745
CREATED:20251209T224148Z
LAST-MODIFIED:20260416T205705Z
UID:10000884-1812326400-1812671999@jlamiami.org
SUMMARY:Finals Week
DESCRIPTION:
URL:https://jlamiami.org/event/finals-week-3/
CATEGORIES:School Calendar
END:VEVENT
BEGIN:VEVENT
DTSTART;VALUE=DATE:20270610
DTEND;VALUE=DATE:20270611
DTSTAMP:20260425T105745
CREATED:20251209T224147Z
LAST-MODIFIED:20260416T205705Z
UID:10000882-1812585600-1812671999@jlamiami.org
SUMMARY:Last Day of School
DESCRIPTION:
URL:https://jlamiami.org/event/last-day-of-school-3/
CATEGORIES:School Calendar
END:VEVENT
BEGIN:VEVENT
DTSTART;VALUE=DATE:20270610
DTEND;VALUE=DATE:20270611
DTSTAMP:20260425T105745
CREATED:20251209T224148Z
LAST-MODIFIED:20260416T205705Z
UID:10000886-1812585600-1812671999@jlamiami.org
SUMMARY:Erev Shavuot - Early Dismissal
DESCRIPTION:
URL:https://jlamiami.org/event/erev-shavuot-early-dismissal/
CATEGORIES:School Calendar
END:VEVENT
BEGIN:VEVENT
DTSTART;VALUE=DATE:20270611
DTEND;VALUE=DATE:20270612
DTSTAMP:20260425T105745
CREATED:20251209T224148Z
LAST-MODIFIED:20260416T205705Z
UID:10000885-1812672000-1812758399@jlamiami.org
SUMMARY:Shavuot - No School
DESCRIPTION:
URL:https://jlamiami.org/event/shavuot-no-school-4/
CATEGORIES:School Calendar
END:VEVENT
END:VCALENDAR