BEGIN:VCALENDAR
VERSION:2.0
PRODID:-//Jewish Leadership Academy - ECPv6.15.5//NONSGML v1.0//EN
CALSCALE:GREGORIAN
METHOD:PUBLISH
X-ORIGINAL-URL:https://jlamiami.org
X-WR-CALDESC:Events for Jewish Leadership Academy
REFRESH-INTERVAL;VALUE=DURATION:PT1H
X-Robots-Tag:noindex
X-PUBLISHED-TTL:PT1H
BEGIN:VTIMEZONE
TZID:America/New_York
BEGIN:DAYLIGHT
TZOFFSETFROM:-0500
TZOFFSETTO:-0400
TZNAME:EDT
DTSTART:20260308T070000
END:DAYLIGHT
BEGIN:STANDARD
TZOFFSETFROM:-0400
TZOFFSETTO:-0500
TZNAME:EST
DTSTART:20261101T060000
END:STANDARD
END:VTIMEZONE
BEGIN:VEVENT
DTSTART;TZID=America/New_York:20260225T160000
DTEND;TZID=America/New_York:20260225T170000
DTSTAMP:20260421T104907
CREATED:20260203T194209Z
LAST-MODIFIED:20260224T230425Z
UID:10000911-1772035200-1772038800@jlamiami.org
SUMMARY:V Boys Volleyball vs. Cushman
DESCRIPTION:
URL:https://jlamiami.org/event/v-boys-volleyball-vs-cushman/
LOCATION:Cushman High School\, 4700 Biscayne Blvd\, Buena Vista\, FL\, United States
CATEGORIES:Athletic Calendar
GEO:25.822726;-80.187189
X-APPLE-STRUCTURED-LOCATION;VALUE=URI;X-ADDRESS=Cushman High School 4700 Biscayne Blvd Buena Vista FL United States;X-APPLE-RADIUS=500;X-TITLE=4700 Biscayne Blvd:geo:-80.187189,25.822726
END:VEVENT
BEGIN:VEVENT
DTSTART;TZID=America/New_York:20260225T163000
DTEND;TZID=America/New_York:20260225T173000
DTSTAMP:20260421T104907
CREATED:20260223T224142Z
LAST-MODIFIED:20260224T230425Z
UID:10000929-1772037000-1772040600@jlamiami.org
SUMMARY:MS Boys Baskeball (A) vs. SLAM Boca
DESCRIPTION:
URL:https://jlamiami.org/event/ms-boys-baskeball-a-vs-slam-boca/
LOCATION:Jewish Leadership Academy\, 975 NW 95th St\, Edison Center\, FL\, United States
CATEGORIES:Athletic Calendar
GEO:25.861698;-80.213504
X-APPLE-STRUCTURED-LOCATION;VALUE=URI;X-ADDRESS=Jewish Leadership Academy 975 NW 95th St Edison Center FL United States;X-APPLE-RADIUS=500;X-TITLE=975 NW 95th St:geo:-80.213504,25.861698
END:VEVENT
END:VCALENDAR