BEGIN:VCALENDAR
VERSION:2.0
PRODID:-//Jewish Leadership Academy - ECPv6.15.5//NONSGML v1.0//EN
CALSCALE:GREGORIAN
METHOD:PUBLISH
X-ORIGINAL-URL:https://jlamiami.org
X-WR-CALDESC:Events for Jewish Leadership Academy
REFRESH-INTERVAL;VALUE=DURATION:PT1H
X-Robots-Tag:noindex
X-PUBLISHED-TTL:PT1H
BEGIN:VTIMEZONE
TZID:America/New_York
BEGIN:DAYLIGHT
TZOFFSETFROM:-0500
TZOFFSETTO:-0400
TZNAME:EDT
DTSTART:20250309T070000
END:DAYLIGHT
BEGIN:STANDARD
TZOFFSETFROM:-0400
TZOFFSETTO:-0500
TZNAME:EST
DTSTART:20251102T060000
END:STANDARD
END:VTIMEZONE
BEGIN:VEVENT
DTSTART;VALUE=DATE:20250527
DTEND;VALUE=DATE:20250528
DTSTAMP:20260421T110020
CREATED:20241125T210940Z
LAST-MODIFIED:20250527T192935Z
UID:10000517-1748304000-1748390399@jlamiami.org
SUMMARY:Parents Welcome Social
DESCRIPTION:
URL:https://jlamiami.org/event/new-student-social/
LOCATION:FL
CATEGORIES:School Calendar
END:VEVENT
END:VCALENDAR